BEGIN:VCALENDAR
VERSION:2.0
PRODID:-//ChamberMaster//Event Calendar 2.0//EN
METHOD:PUBLISH
X-PUBLISHED-TTL:P1H
REFRESH-INTERVAL:P1H
CALSCALE:GREGORIAN
BEGIN:VTIMEZONE
TZID:America/Chicago
BEGIN:DAYLIGHT
RRULE:FREQ=YEARLY;BYMONTH=3;BYDAY=2SU
DTSTART:20070101T000000
TZOFFSETFROM:-0600
TZOFFSETTO:-0500
TZNAME:Central Daylight Time
END:DAYLIGHT
BEGIN:STANDARD
RRULE:FREQ=YEARLY;BYMONTH=11;BYDAY=1SU
DTSTART:20070101T000000
TZOFFSETFROM:-0500
TZOFFSETTO:-0600
TZNAME:Central Standard Time
END:STANDARD
END:VTIMEZONE
BEGIN:VEVENT
DTSTART;TZID=America/Chicago:20241215T163000
DTEND;TZID=America/Chicago:20241215T183000
X-MICROSOFT-CDO-ALLDAYEVENT:FALSE
SUMMARY:Chillax in Pajama's Party
DESCRIPTION:❄️Join Us for the Ultimate Icebox Studio Pajama Party!❄️\n**R.S.V.P. ONLY**\n\nGet ready to unwind and indulge in a cozy evening of relaxation and rejuvenation at our exclusive Icebox Studio Pajama Party! Slip into your favorite holiday pajamas and treat yourself to a luxurious self-care experience that you won’t want to miss.\n\nEvent Highlights:\n- Mini-Cryo Facial: Refresh and revitalize your skin with our soothing mini-cryo facial\, designed to leave you glowing.\n- Red Light Treatment: Experience the benefits of our red light therapy\, promoting healing and rejuvenation for a radiant complexion.\n- Compression Session: Enjoy a relaxing compression session that will ease tension and enhance your overall well-being.\n- Optional Localized Nitrogen Treatment: For those looking for an extra boost\, opt for our localized nitrogen treatment to target specific areas.\n\nAll of this for just $40 (a $130 value)!\n\nAs you pamper yourself\, sip on delicious hot cocoa with a variety of toppings to choose from\, and indulge in scrumptious holiday treats.\n\nFamily-Friendly Fun: Kids are more than welcome! We’ll have holiday movies playing and plenty of treats to keep them entertained while you relax and rejuvenate.\n\nRSVP Required: Spots are limited\, so be sure to reserve your place for this festive evening of fun and relaxation!\n\nDon’t miss out on this unique opportunity to celebrate the season in style. We can’t wait to see you in your holiday pajamas! 🎄✨\n\n\nJoin us for a night of joy\, relaxation\, and holiday spirit!
X-ALT-DESC;FMTTYPE=text/html:❄️Join Us for the Ultimate Icebox Studio Pajama Party!❄️\n**R.S.V.P. ONLY**\n\nGet ready to unwind and indulge in a cozy evening of relaxation and rejuvenation at our exclusive Icebox Studio Pajama Party! Slip into your favorite holiday pajamas and treat yourself to a luxurious self-care experience that you won’t want to miss.\n\nEvent Highlights:\n- Mini-Cryo Facial: Refresh and revitalize your skin with our soothing mini-cryo facial\, designed to leave you glowing.\n- Red Light Treatment: Experience the benefits of our red light therapy\, promoting healing and rejuvenation for a radiant complexion.\n- Compression Session: Enjoy a relaxing compression session that will ease tension and enhance your overall well-being.\n- Optional Localized Nitrogen Treatment: For those looking for an extra boost\, opt for our localized nitrogen treatment to target specific areas.\n\nAll of this for just $40 (a $130 value)!\n\nAs you pamper yourself\, sip on delicious hot cocoa with a variety of toppings to choose from\, and indulge in scrumptious holiday treats.\n\nFamily-Friendly Fun: Kids are more than welcome! We’ll have holiday movies playing and plenty of treats to keep them entertained while you relax and rejuvenate.\n\nRSVP Required: Spots are limited\, so be sure to reserve your place for this festive evening of fun and relaxation!\n\nDon’t miss out on this unique opportunity to celebrate the season in style. We can’t wait to see you in your holiday pajamas! 🎄✨\n\n\nJoin us for a night of joy\, relaxation\, and holiday spirit!
LOCATION:6630 FM 1463 Rd Suite A 200 Katy TX 77494
UID:e.3849.1092171
SEQUENCE:3
DTSTAMP:20260421T164608Z
URL:https://chamber.fulshearregional.com/eventcalendar/Details/chillax-in-pajama-s-party-1261399?sourceTypeId=Hub
END:VEVENT
END:VCALENDAR
