BEGIN:VCALENDAR
VERSION:2.0
PRODID:-//ChamberMaster//Event Calendar 2.0//EN
METHOD:PUBLISH
X-PUBLISHED-TTL:P1H
REFRESH-INTERVAL:P1H
CALSCALE:GREGORIAN
BEGIN:VTIMEZONE
TZID:America/Chicago
BEGIN:DAYLIGHT
RRULE:FREQ=YEARLY;BYMONTH=3;BYDAY=2SU
DTSTART:20070101T000000
TZOFFSETFROM:-0600
TZOFFSETTO:-0500
TZNAME:Central Daylight Time
END:DAYLIGHT
BEGIN:STANDARD
RRULE:FREQ=YEARLY;BYMONTH=11;BYDAY=1SU
DTSTART:20070101T000000
TZOFFSETFROM:-0500
TZOFFSETTO:-0600
TZNAME:Central Standard Time
END:STANDARD
END:VTIMEZONE
BEGIN:VEVENT
DTSTART;TZID=America/Chicago:20250927T180000
DTEND;TZID=America/Chicago:20250927T210000
X-MICROSOFT-CDO-ALLDAYEVENT:FALSE
SUMMARY:Charly Rose Band Concert in the park
DESCRIPTION:All Ages:   Free family fun Music: Saturday night mix of Top 40\, pop\, rock\, R&B\, country\, Motown\, and Latin favorites dancefloor\, & popular hits\, from the first song to the last. Charly Rose Band is a Houston party band featuring powerhouse vocals\, guitar\, bass\, drums\, and keys/horns. Perfect for festivals\, city events\, and venues that want a fun\, family-friendly show. Listen/Watch: https://vimeo.com/1108230899?share=copy
X-ALT-DESC;FMTTYPE=text/html:<!DOCTYPE html><html><head><title></title></head><body aria-disabled="false"><p>All Ages: &bull\; Free family fun Music: Saturday night mix of Top 40\, pop\, rock\, R&amp\;B\, country\, Motown\, and Latin favorites&mdash\;dancefloor\, &amp\; popular hits\, from the first song to the last. Charly Rose Band is a Houston party band featuring powerhouse vocals\, guitar\, bass\, drums\, and keys/horns. Perfect for festivals\, city events\, and venues that want a fun\, family-friendly show. Listen/Watch: https://vimeo.com/1108230899?share=copy</p></body></html>
LOCATION:9945 Barker Cypress Rd Cypress TX 77433
UID:e.3849.1280281
SEQUENCE:3
DTSTAMP:20260422T103103Z
URL:https://chamber.fulshearregional.com/eventcalendar/Details/charly-rose-band-concert-in-the-park-1498866?sourceTypeId=Hub
END:VEVENT
END:VCALENDAR
